BEGIN:VCALENDAR
VERSION:2.0
PRODID:-//Tukios.com/
BEGIN:VEVENT
UID:e26d72a8-ad83-4a19-a993-1d1705b264c9@www.josephhbrown.com
DTSTAMP:20260424T165318Z
DTSTART:20260509T130000Z
DTEND:20260509T133000Z
SUMMARY:Wake
DESCRIPTION:
URL:https://www.josephhbrown.com/obituaries/darneil-felder
LOCATION: 2140 N FULTON AVE  Baltimore MD 21217
GEO:39.3127947;-76.6471275
END:VEVENT
END:VCALENDAR