BEGIN:VCALENDAR
VERSION:2.0
PRODID:-//Tukios.com/
BEGIN:VEVENT
UID:7d54a430-2c03-4caa-b4ea-84420bc5419c@www.josephhbrown.com
DTSTAMP:20260424T165406Z
DTSTART:20260509T133000Z
DTEND:20260509T150000Z
SUMMARY:Funeral Service
DESCRIPTION:
URL:https://www.josephhbrown.com/obituaries/darneil-felder
LOCATION: 2140 N FULTON AVE  Baltimore MD 21217
GEO:39.3127947;-76.6471275
END:VEVENT
END:VCALENDAR