BEGIN:VCALENDAR
VERSION:2.0
PRODID:-//Tukios.com/
BEGIN:VEVENT
UID:246a3b86-0a78-448f-81d9-dd9371573b8f@www.josephhbrown.com
DTSTAMP:20260424T165723Z
DTSTART:20260509
SUMMARY:Burial
DESCRIPTION:
URL:https://www.josephhbrown.com/obituaries/darneil-felder
LOCATION: 8710 Dogwood Road  Baltimore MD 21224
GEO:39.3293145;-76.8102135
END:VEVENT
END:VCALENDAR