BEGIN:VCALENDAR
VERSION:2.0
PRODID:-//Tukios.com/
BEGIN:VEVENT
UID:bbbcafe8-f217-4b6b-b01c-6f7bd672784b@www.josephhbrown.com
DTSTAMP:20260420T173837Z
DTSTART:20260512T160000Z
DTEND:20260512T163000Z
SUMMARY:Wake
DESCRIPTION:
URL:https://www.josephhbrown.com/obituaries/frances-wynn
LOCATION: 2140 N FULTON AVE  Baltimore MD 21217
GEO:39.3127947;-76.6471275
END:VEVENT
END:VCALENDAR