BEGIN:VCALENDAR
VERSION:2.0
PRODID:-//Tukios.com/
BEGIN:VEVENT
UID:c9431d16-856c-4b16-8c2d-581cfc3e7643@www.josephhbrown.com
DTSTAMP:20260420T174158Z
DTSTART:20260512T163000Z
DTEND:20260512T180000Z
SUMMARY:Funeral Service
DESCRIPTION:
URL:https://www.josephhbrown.com/obituaries/frances-wynn
LOCATION: 2140 N FULTON AVE  Baltimore MD 21217
GEO:39.3127947;-76.6471275
END:VEVENT
END:VCALENDAR