BEGIN:VCALENDAR
VERSION:2.0
PRODID:-//Tukios.com/
BEGIN:VEVENT
UID:7a731dec-262d-4a87-b35c-15a62e9b7beb@www.josephhbrown.com
DTSTAMP:20260422T175122Z
DTSTART:20260504T160000Z
DTEND:20260504T163000Z
SUMMARY:Wake
DESCRIPTION:
URL:https://www.josephhbrown.com/obituaries/george-shearin-jr
LOCATION: 2140 N FULTON AVE  Baltimore MD 21217
GEO:39.3127947;-76.6471275
END:VEVENT
END:VCALENDAR