BEGIN:VCALENDAR
VERSION:2.0
PRODID:-//Tukios.com/
BEGIN:VEVENT
UID:13b3bd30-b2f5-4f82-bb54-0b7a84ad1626@www.josephhbrown.com
DTSTAMP:20260422T175615Z
DTSTART:20260504T163000Z
DTEND:20260504T180000Z
SUMMARY:Funeral Service
DESCRIPTION:
URL:https://www.josephhbrown.com/obituaries/george-shearin-jr
LOCATION: 2140 N FULTON AVE  Baltimore MD 21217
GEO:39.3127947;-76.6471275
END:VEVENT
END:VCALENDAR