BEGIN:VCALENDAR
VERSION:2.0
PRODID:-//Tukios.com/
BEGIN:VEVENT
UID:b54e91a4-91da-428a-ad3c-259605a251e9@www.josephhbrown.com
DTSTAMP:20260422T175404Z
DTSTART:20260504
SUMMARY:Ceremonial Committal
DESCRIPTION:
URL:https://www.josephhbrown.com/obituaries/george-shearin-jr
LOCATION: 2140 N FULTON AVE  Baltimore MD 21217
GEO:39.3127947;-76.6471275
END:VEVENT
END:VCALENDAR