BEGIN:VCALENDAR
VERSION:2.0
PRODID:-//Tukios.com/
BEGIN:VEVENT
UID:81124e10-bd2e-43c8-bcc0-f2429a8de86d@www.josephhbrown.com
DTSTAMP:20260422T211255Z
DTSTART:20260501T144500Z
DTEND:20260501T154500Z
SUMMARY:Direct Burial
DESCRIPTION:
URL:https://www.josephhbrown.com/obituaries/ian-saint-georges
LOCATION: 11501 Garrison Forest RD.  Owings Mills MD 21117
GEO:39.440315;-76.7664978
END:VEVENT
END:VCALENDAR