BEGIN:VCALENDAR
VERSION:2.0
PRODID:-//Tukios.com/
BEGIN:VEVENT
UID:fd7d5ab4-349e-4775-bc09-876c6754847b@www.josephhbrown.com
DTSTAMP:20260423T172509Z
DTSTART:20260508T160000Z
DTEND:20260508T163000Z
SUMMARY:Wake
DESCRIPTION:
URL:https://www.josephhbrown.com/obituaries/jacqueline-johnson
LOCATION: 2140 N FULTON AVE  Baltimore MD 21217
GEO:39.3127947;-76.6471275
END:VEVENT
END:VCALENDAR