BEGIN:VCALENDAR
VERSION:2.0
PRODID:-//Tukios.com/
BEGIN:VEVENT
UID:d04ae23b-76d4-475e-85bb-0c9764779c4e@www.josephhbrown.com
DTSTAMP:20260423T172830Z
DTSTART:20260508T163000Z
DTEND:20260508T180000Z
SUMMARY:Funeral Service
DESCRIPTION:
URL:https://www.josephhbrown.com/obituaries/jacqueline-johnson
LOCATION: 2140 N FULTON AVE  Baltimore MD 21217
GEO:39.3127947;-76.6471275
END:VEVENT
END:VCALENDAR