BEGIN:VCALENDAR
VERSION:2.0
PRODID:-//Tukios.com/
BEGIN:VEVENT
UID:f75421ed-eb90-4aab-889d-3b678a3efd23@www.josephhbrown.com
DTSTAMP:20260423T172326Z
DTSTART:20260508
SUMMARY:Ceremonial Committal
DESCRIPTION:
URL:https://www.josephhbrown.com/obituaries/jacqueline-johnson
LOCATION: 2140 N FULTON AVE  Baltimore MD 21217
GEO:39.3127947;-76.6471275
END:VEVENT
END:VCALENDAR