BEGIN:VCALENDAR
VERSION:2.0
PRODID:-//Tukios.com/
BEGIN:VEVENT
UID:a5843a90-4190-455e-9eae-36eaba7c4f00@www.josephhbrown.com
DTSTAMP:20260423T195538Z
DTSTART:20260501T190000Z
DTEND:20260501T200000Z
SUMMARY:Viewing
DESCRIPTION:
URL:https://www.josephhbrown.com/obituaries/lorraine-grattan
LOCATION: 2140 N FULTON AVE  Baltimore MD 21217
GEO:39.3127947;-76.6471275
END:VEVENT
END:VCALENDAR