BEGIN:VCALENDAR
VERSION:2.0
PRODID:-//Tukios.com/
BEGIN:VEVENT
UID:e323a8b1-839b-4f21-abe9-ffdedb899d2f@www.josephhbrown.com
DTSTAMP:20260423T195321Z
DTSTART:20260502T140000Z
DTEND:20260502T150000Z
SUMMARY:Wake
DESCRIPTION:
URL:https://www.josephhbrown.com/obituaries/lorraine-grattan
LOCATION:Cherry Hill Community Presbyterian 819 Cherry Hill Rd  Baltimore 
	MD 21225
GEO:39.2489254;-76.6262435
END:VEVENT
END:VCALENDAR