BEGIN:VCALENDAR
VERSION:2.0
PRODID:-//Tukios.com/
BEGIN:VEVENT
UID:d2279291-9c6a-4b3a-a79d-59cba1c46f02@www.josephhbrown.com
DTSTAMP:20260423T195322Z
DTSTART:20260502
SUMMARY:Burial
DESCRIPTION:
URL:https://www.josephhbrown.com/obituaries/lorraine-grattan
LOCATION: 1101 Sulphur Spring Rd  Baltimore MD 21227
GEO:39.2444505;-76.7069552
END:VEVENT
END:VCALENDAR